Package: evaluomeR Version: 1.23.0 Command: /Library/Frameworks/R.framework/Resources/bin/R CMD build --keep-empty-dirs --no-resave-data evaluomeR StartedAt: 2025-02-09 16:17:39 -0500 (Sun, 09 Feb 2025) EndedAt: 2025-02-09 16:18:04 -0500 (Sun, 09 Feb 2025) EllapsedTime: 25.3 seconds RetCode: 0 Status: OK PackageFile: evaluomeR_1.23.0.tar.gz PackageFileSize: 1.045 MiB