Package: evaluomeR Version: 1.23.0 Command: rm -rf evaluomeR.buildbin-libdir && mkdir evaluomeR.buildbin-libdir && /Users/biocbuild/BBS/utils/build-universal.sh evaluomeR_1.23.0.tar.gz /Library/Frameworks/R.framework/Resources/bin/R evaluomeR.buildbin-libdir StartedAt: 2025-02-10 00:52:49 -0500 (Mon, 10 Feb 2025) EndedAt: 2025-02-10 00:53:34 -0500 (Mon, 10 Feb 2025) EllapsedTime: 45.2 seconds RetCode: 0 Status: OK PackageFile: evaluomeR_1.23.0.tgz PackageFileSize: 775.6 KiB