Package: evaluomeR Version: 1.23.0 Command: /Library/Frameworks/R.framework/Resources/bin/R CMD INSTALL evaluomeR StartedAt: 2025-02-09 15:38:36 -0500 (Sun, 09 Feb 2025) EndedAt: 2025-02-09 15:39:31 -0500 (Sun, 09 Feb 2025) EllapsedTime: 55.2 seconds RetCode: 0 Status: OK