Package: evaluomeR Version: 1.23.0 Command: /home/biocbuild/bbs-3.21-bioc/R/bin/R CMD build --keep-empty-dirs --no-resave-data evaluomeR StartedAt: 2025-02-09 17:12:16 -0500 (Sun, 09 Feb 2025) EndedAt: 2025-02-09 17:13:21 -0500 (Sun, 09 Feb 2025) EllapsedTime: 64.3 seconds RetCode: 0 Status: OK PackageFile: evaluomeR_1.23.0.tar.gz PackageFileSize: 1.112 MiB