Package: evaluomeR Version: 1.23.0 Command: /home/biocbuild/bbs-3.21-bioc/R/bin/R CMD check --install=check:evaluomeR.install-out.txt --library=/home/biocbuild/bbs-3.21-bioc/R/site-library --timings evaluomeR_1.23.0.tar.gz StartedAt: 2025-02-09 22:11:48 -0500 (Sun, 09 Feb 2025) EndedAt: 2025-02-09 22:17:01 -0500 (Sun, 09 Feb 2025) EllapsedTime: 312.4 seconds RetCode: 0 Status: WARNINGS CheckDir: evaluomeR.Rcheck Warnings: 3