Package: evaluomeR Version: 1.23.0 Command: rm -rf evaluomeR.buildbin-libdir && mkdir evaluomeR.buildbin-libdir && E:\biocbuild\bbs-3.21-bioc\R\bin\R.exe CMD INSTALL --build --library=evaluomeR.buildbin-libdir evaluomeR_1.23.0.tar.gz StartedAt: 2025-02-10 07:43:37 -0500 (Mon, 10 Feb 2025) EndedAt: 2025-02-10 07:44:29 -0500 (Mon, 10 Feb 2025) EllapsedTime: 52.2 seconds RetCode: 0 Status: OK PackageFile: evaluomeR_1.23.0.zip PackageFileSize: 581.6 KiB