Package: evaluomeR Version: 1.23.0 Command: E:\biocbuild\bbs-3.21-bioc\R\bin\R.exe CMD check --no-multiarch --install=check:evaluomeR.install-out.txt --library=E:\biocbuild\bbs-3.21-bioc\R\library --no-vignettes --timings evaluomeR_1.23.0.tar.gz StartedAt: 2025-02-10 00:58:50 -0500 (Mon, 10 Feb 2025) EndedAt: 2025-02-10 01:05:05 -0500 (Mon, 10 Feb 2025) EllapsedTime: 374.8 seconds RetCode: 0 Status: WARNINGS CheckDir: evaluomeR.Rcheck Warnings: 3