Package: extraChIPs Version: 1.11.0 Maintainer: Stevie Pederson MaintainerEmail: stephen.pederson.au at gmail.com git_url: https://git.bioconductor.org/packages/extraChIPs git_branch: devel git_last_commit: f411e4c git_last_commit_date: 2024-10-29 11:11:00 -0500 (Tue, 29 Oct 2024)