Package: extraChIPs Version: 1.11.0 Command: /Library/Frameworks/R.framework/Resources/bin/R CMD check --install=check:extraChIPs.install-out.txt --library=/Library/Frameworks/R.framework/Resources/library --no-vignettes --timings extraChIPs_1.11.0.tar.gz StartedAt: 2025-02-09 19:11:08 -0500 (Sun, 09 Feb 2025) EndedAt: 2025-02-09 19:14:15 -0500 (Sun, 09 Feb 2025) EllapsedTime: 187.3 seconds RetCode: 0 Status: OK CheckDir: extraChIPs.Rcheck Warnings: 0