Package: extraChIPs Version: 1.11.0 Command: /Library/Frameworks/R.framework/Resources/bin/R CMD INSTALL extraChIPs StartedAt: 2025-02-09 15:17:34 -0500 (Sun, 09 Feb 2025) EndedAt: 2025-02-09 15:17:58 -0500 (Sun, 09 Feb 2025) EllapsedTime: 24.1 seconds RetCode: 0 Status: OK