Package: extraChIPs Version: 1.11.0 Command: /Library/Frameworks/R.framework/Resources/bin/R CMD build --keep-empty-dirs --no-resave-data extraChIPs StartedAt: 2025-02-12 16:42:04 -0500 (Wed, 12 Feb 2025) EndedAt: 2025-02-12 16:44:17 -0500 (Wed, 12 Feb 2025) EllapsedTime: 132.8 seconds RetCode: 0 Status: OK PackageFile: extraChIPs_1.11.0.tar.gz PackageFileSize: 3.822 MiB