Package: extraChIPs Version: 1.11.0 Command: /Library/Frameworks/R.framework/Resources/bin/R CMD check --install=check:extraChIPs.install-out.txt --library=/Library/Frameworks/R.framework/Resources/library --no-vignettes --timings extraChIPs_1.11.0.tar.gz StartedAt: 2025-02-09 20:39:41 -0500 (Sun, 09 Feb 2025) EndedAt: 2025-02-09 20:49:35 -0500 (Sun, 09 Feb 2025) EllapsedTime: 594.6 seconds RetCode: 0 Status: OK CheckDir: extraChIPs.Rcheck Warnings: 0