Package: extraChIPs Version: 1.11.0 Command: /home/biocbuild/bbs-3.21-bioc/R/bin/R CMD build --keep-empty-dirs --no-resave-data extraChIPs StartedAt: 2025-02-09 17:13:05 -0500 (Sun, 09 Feb 2025) EndedAt: 2025-02-09 17:15:00 -0500 (Sun, 09 Feb 2025) EllapsedTime: 115.4 seconds RetCode: 0 Status: OK PackageFile: extraChIPs_1.11.0.tar.gz PackageFileSize: 3.724 MiB