Package: fCCAC Version: 1.33.0 Command: /Library/Frameworks/R.framework/Resources/bin/R CMD build --keep-empty-dirs --no-resave-data fCCAC StartedAt: 2025-02-09 16:18:58 -0500 (Sun, 09 Feb 2025) EndedAt: 2025-02-09 16:19:22 -0500 (Sun, 09 Feb 2025) EllapsedTime: 24.3 seconds RetCode: 0 Status: OK PackageFile: fCCAC_1.33.0.tar.gz PackageFileSize: 3.498 MiB