Package: fCCAC Version: 1.33.0 Command: /Library/Frameworks/R.framework/Resources/bin/R CMD check --install=check:fCCAC.install-out.txt --library=/Library/Frameworks/R.framework/Resources/library --no-vignettes --timings fCCAC_1.33.0.tar.gz StartedAt: 2025-02-09 19:12:22 -0500 (Sun, 09 Feb 2025) EndedAt: 2025-02-09 19:14:10 -0500 (Sun, 09 Feb 2025) EllapsedTime: 108.3 seconds RetCode: 0 Status: OK CheckDir: fCCAC.Rcheck Warnings: 0