Package: fCCAC Version: 1.33.0 Command: /Library/Frameworks/R.framework/Resources/bin/R CMD INSTALL fCCAC StartedAt: 2025-02-09 15:29:43 -0500 (Sun, 09 Feb 2025) EndedAt: 2025-02-09 15:29:57 -0500 (Sun, 09 Feb 2025) EllapsedTime: 13.8 seconds RetCode: 0 Status: OK