Package: fCCAC Version: 1.33.0 Command: /home/biocbuild/R/R/bin/R CMD build --keep-empty-dirs --no-resave-data fCCAC StartedAt: 2025-01-28 22:52:03 -0000 (Tue, 28 Jan 2025) EndedAt: 2025-01-28 22:53:26 -0000 (Tue, 28 Jan 2025) EllapsedTime: 83.1 seconds RetCode: 0 Status: OK PackageFile: fCCAC_1.33.0.tar.gz PackageFileSize: 3.492 MiB