Package: fCCAC Version: 1.33.0 Command: /home/biocbuild/R/R/bin/R CMD check --install=check:fCCAC.install-out.txt --library=/home/biocbuild/R/R/site-library --no-vignettes --timings fCCAC_1.33.0.tar.gz StartedAt: 2025-01-28 10:34:32 -0000 (Tue, 28 Jan 2025) EndedAt: 2025-01-28 10:40:30 -0000 (Tue, 28 Jan 2025) EllapsedTime: 357.5 seconds RetCode: 0 Status: OK CheckDir: fCCAC.Rcheck Warnings: 0