Package: fCCAC Version: 1.33.0 Command: /home/biocbuild/R/R/bin/R CMD INSTALL fCCAC StartedAt: 2025-01-29 20:37:22 -0000 (Wed, 29 Jan 2025) EndedAt: 2025-01-29 20:38:13 -0000 (Wed, 29 Jan 2025) EllapsedTime: 51.3 seconds RetCode: 0 Status: OK