Package: fCCAC Version: 1.33.0 Command: /home/biocbuild/bbs-3.21-bioc/R/bin/R CMD build --keep-empty-dirs --no-resave-data fCCAC StartedAt: 2025-02-09 17:13:41 -0500 (Sun, 09 Feb 2025) EndedAt: 2025-02-09 17:14:53 -0500 (Sun, 09 Feb 2025) EllapsedTime: 72.2 seconds RetCode: 0 Status: OK PackageFile: fCCAC_1.33.0.tar.gz PackageFileSize: 3.499 MiB