Package: fCCAC Version: 1.33.0 Command: /home/biocbuild/bbs-3.21-bioc/R/bin/R CMD check --install=check:fCCAC.install-out.txt --library=/home/biocbuild/bbs-3.21-bioc/R/site-library --timings fCCAC_1.33.0.tar.gz StartedAt: 2025-02-09 22:16:54 -0500 (Sun, 09 Feb 2025) EndedAt: 2025-02-09 22:22:03 -0500 (Sun, 09 Feb 2025) EllapsedTime: 309.5 seconds RetCode: 0 Status: OK CheckDir: fCCAC.Rcheck Warnings: 0