Package: fCCAC Version: 1.33.0 Command: rm -rf fCCAC.buildbin-libdir && mkdir fCCAC.buildbin-libdir && E:\biocbuild\bbs-3.21-bioc\R\bin\R.exe CMD INSTALL --build --library=fCCAC.buildbin-libdir fCCAC_1.33.0.tar.gz StartedAt: 2025-02-04 07:58:09 -0500 (Tue, 04 Feb 2025) EndedAt: 2025-02-04 07:58:57 -0500 (Tue, 04 Feb 2025) EllapsedTime: 48.2 seconds RetCode: 0 Status: OK PackageFile: fCCAC_1.33.0.zip PackageFileSize: 3.529 MiB