Package: fCCAC Version: 1.33.0 Command: chmod a+r fCCAC -R && E:\biocbuild\bbs-3.21-bioc\R\bin\R.exe CMD build --keep-empty-dirs --no-resave-data fCCAC StartedAt: 2025-02-09 18:40:59 -0500 (Sun, 09 Feb 2025) EndedAt: 2025-02-09 18:42:15 -0500 (Sun, 09 Feb 2025) EllapsedTime: 76.7 seconds RetCode: 0 Status: OK PackageFile: fCCAC_1.33.0.tar.gz PackageFileSize: 3.495 MiB