Package: fCCAC Version: 1.33.0 Command: E:\biocbuild\bbs-3.21-bioc\R\bin\R.exe CMD INSTALL fCCAC StartedAt: 2025-02-09 17:00:00 -0500 (Sun, 09 Feb 2025) EndedAt: 2025-02-09 17:00:43 -0500 (Sun, 09 Feb 2025) EllapsedTime: 42.4 seconds RetCode: 0 Status: OK