Package: factDesign Version: 1.83.0 Command: rm -rf factDesign.buildbin-libdir && mkdir factDesign.buildbin-libdir && /Users/biocbuild/BBS/utils/build-universal.sh factDesign_1.83.0.tar.gz /Library/Frameworks/R.framework/Resources/bin/R factDesign.buildbin-libdir StartedAt: 2025-02-09 22:14:09 -0500 (Sun, 09 Feb 2025) EndedAt: 2025-02-09 22:14:11 -0500 (Sun, 09 Feb 2025) EllapsedTime: 2.0 seconds RetCode: 0 Status: OK PackageFile: factDesign_1.83.0.tgz PackageFileSize: 232 KiB