Package: factDesign Version: 1.83.0 Command: /Library/Frameworks/R.framework/Resources/bin/R CMD check --install=check:factDesign.install-out.txt --library=/Library/Frameworks/R.framework/Resources/library --no-vignettes --timings factDesign_1.83.0.tar.gz StartedAt: 2025-02-09 19:11:27 -0500 (Sun, 09 Feb 2025) EndedAt: 2025-02-09 19:11:40 -0500 (Sun, 09 Feb 2025) EllapsedTime: 13.2 seconds RetCode: 0 Status: OK CheckDir: factDesign.Rcheck Warnings: 0