Package: factDesign Version: 1.83.0 Command: /Library/Frameworks/R.framework/Resources/bin/R CMD INSTALL factDesign StartedAt: 2025-02-09 15:06:10 -0500 (Sun, 09 Feb 2025) EndedAt: 2025-02-09 15:06:42 -0500 (Sun, 09 Feb 2025) EllapsedTime: 31.2 seconds RetCode: 0 Status: OK