Package: factDesign Version: 1.83.0 Command: /home/biocbuild/bbs-3.21-bioc/R/bin/R CMD check --install=check:factDesign.install-out.txt --library=/home/biocbuild/bbs-3.21-bioc/R/site-library --timings factDesign_1.83.0.tar.gz StartedAt: 2025-02-04 22:14:56 -0500 (Tue, 04 Feb 2025) EndedAt: 2025-02-04 22:15:26 -0500 (Tue, 04 Feb 2025) EllapsedTime: 30.0 seconds RetCode: 0 Status: OK CheckDir: factDesign.Rcheck Warnings: 0