Package: factDesign Version: 1.83.0 Command: rm -rf factDesign.buildbin-libdir && mkdir factDesign.buildbin-libdir && E:\biocbuild\bbs-3.21-bioc\R\bin\R.exe CMD INSTALL --build --library=factDesign.buildbin-libdir factDesign_1.83.0.tar.gz StartedAt: 2025-02-10 07:44:13 -0500 (Mon, 10 Feb 2025) EndedAt: 2025-02-10 07:44:22 -0500 (Mon, 10 Feb 2025) EllapsedTime: 9.2 seconds RetCode: 0 Status: OK PackageFile: factDesign_1.83.0.zip PackageFileSize: 235.7 KiB