Package: factDesign Version: 1.83.0 Command: chmod a+r factDesign -R && E:\biocbuild\bbs-3.21-bioc\R\bin\R.exe CMD build --keep-empty-dirs --no-resave-data factDesign StartedAt: 2025-02-12 18:43:45 -0500 (Wed, 12 Feb 2025) EndedAt: 2025-02-12 18:44:00 -0500 (Wed, 12 Feb 2025) EllapsedTime: 14.5 seconds RetCode: 0 Status: OK PackageFile: factDesign_1.83.0.tar.gz PackageFileSize: 218 KiB