Package: factDesign Version: 1.83.0 Command: E:\biocbuild\bbs-3.21-bioc\R\bin\R.exe CMD INSTALL factDesign StartedAt: 2025-02-12 15:27:14 -0500 (Wed, 12 Feb 2025) EndedAt: 2025-02-12 15:27:22 -0500 (Wed, 12 Feb 2025) EllapsedTime: 8.0 seconds RetCode: 0 Status: OK