Package: factR Version: 1.9.0 Command: rm -rf factR.buildbin-libdir && mkdir factR.buildbin-libdir && /Users/biocbuild/BBS/utils/build-universal.sh factR_1.9.0.tar.gz /Library/Frameworks/R.framework/Resources/bin/R factR.buildbin-libdir StartedAt: 2025-02-12 22:19:23 -0500 (Wed, 12 Feb 2025) EndedAt: 2025-02-12 22:19:28 -0500 (Wed, 12 Feb 2025) EllapsedTime: 5.1 seconds RetCode: 0 Status: OK PackageFile: factR_1.9.0.tgz PackageFileSize: 1.929 MiB