Package: factR Version: 1.9.0 Command: /Library/Frameworks/R.framework/Resources/bin/R CMD check --install=check:factR.install-out.txt --library=/Library/Frameworks/R.framework/Resources/library --no-vignettes --timings factR_1.9.0.tar.gz StartedAt: 2025-02-12 19:15:31 -0500 (Wed, 12 Feb 2025) EndedAt: 2025-02-12 19:16:24 -0500 (Wed, 12 Feb 2025) EllapsedTime: 53.7 seconds RetCode: 0 Status: OK CheckDir: factR.Rcheck Warnings: 0