Package: factR Version: 1.9.0 Command: /Library/Frameworks/R.framework/Resources/bin/R CMD INSTALL factR StartedAt: 2025-02-09 15:09:16 -0500 (Sun, 09 Feb 2025) EndedAt: 2025-02-09 15:09:20 -0500 (Sun, 09 Feb 2025) EllapsedTime: 4.0 seconds RetCode: 0 Status: OK