Package: factR Version: 1.9.0 Command: /home/biocbuild/R/R/bin/R CMD INSTALL factR StartedAt: 2025-01-29 19:51:08 -0000 (Wed, 29 Jan 2025) EndedAt: 2025-01-29 19:51:20 -0000 (Wed, 29 Jan 2025) EllapsedTime: 12.4 seconds RetCode: 0 Status: OK