Package: factR Version: 1.9.0 Command: /Library/Frameworks/R.framework/Resources/bin/R CMD INSTALL factR StartedAt: 2025-02-09 15:18:28 -0500 (Sun, 09 Feb 2025) EndedAt: 2025-02-09 15:18:43 -0500 (Sun, 09 Feb 2025) EllapsedTime: 15.2 seconds RetCode: 0 Status: OK