Package: factR Version: 1.9.0 Command: /home/biocbuild/bbs-3.21-bioc/R/bin/R CMD build --keep-empty-dirs --no-resave-data factR StartedAt: 2025-02-09 17:13:18 -0500 (Sun, 09 Feb 2025) EndedAt: 2025-02-09 17:15:42 -0500 (Sun, 09 Feb 2025) EllapsedTime: 144.4 seconds RetCode: 0 Status: OK PackageFile: factR_1.9.0.tar.gz PackageFileSize: 1.791 MiB