Package: factR Version: 1.9.0 Command: chmod a+r factR -R && E:\biocbuild\bbs-3.21-bioc\R\bin\R.exe CMD build --keep-empty-dirs --no-resave-data factR StartedAt: 2025-02-09 18:40:08 -0500 (Sun, 09 Feb 2025) EndedAt: 2025-02-09 18:44:12 -0500 (Sun, 09 Feb 2025) EllapsedTime: 243.7 seconds RetCode: 0 Status: OK PackageFile: factR_1.9.0.tar.gz PackageFileSize: 1.379 MiB