Package: faers Version: 1.3.0 Command: rm -rf faers.buildbin-libdir && mkdir faers.buildbin-libdir && /Users/biocbuild/BBS/utils/build-universal.sh faers_1.3.0.tar.gz /Library/Frameworks/R.framework/Resources/bin/R faers.buildbin-libdir StartedAt: 2025-02-09 22:14:11 -0500 (Sun, 09 Feb 2025) EndedAt: 2025-02-09 22:14:14 -0500 (Sun, 09 Feb 2025) EllapsedTime: 3.1 seconds RetCode: 0 Status: OK PackageFile: faers_1.3.0.tgz PackageFileSize: 3.217 MiB