Package: faers Version: 1.3.0 Command: /Library/Frameworks/R.framework/Resources/bin/R CMD build --keep-empty-dirs --no-resave-data faers StartedAt: 2025-02-03 16:45:44 -0500 (Mon, 03 Feb 2025) EndedAt: 2025-02-03 16:46:16 -0500 (Mon, 03 Feb 2025) EllapsedTime: 32.0 seconds RetCode: 0 Status: OK PackageFile: faers_1.3.0.tar.gz PackageFileSize: 2.889 MiB