Package: faers Version: 1.3.0 Command: /Library/Frameworks/R.framework/Resources/bin/R CMD check --install=check:faers.install-out.txt --library=/Library/Frameworks/R.framework/Resources/library --no-vignettes --timings faers_1.3.0.tar.gz StartedAt: 2025-02-03 20:30:16 -0500 (Mon, 03 Feb 2025) EndedAt: 2025-02-03 20:31:25 -0500 (Mon, 03 Feb 2025) EllapsedTime: 69.4 seconds RetCode: 0 Status: OK CheckDir: faers.Rcheck Warnings: 0