Package: faers Version: 1.3.0 Command: /Library/Frameworks/R.framework/Resources/bin/R CMD INSTALL faers StartedAt: 2025-02-09 15:39:54 -0500 (Sun, 09 Feb 2025) EndedAt: 2025-02-09 15:40:02 -0500 (Sun, 09 Feb 2025) EllapsedTime: 7.4 seconds RetCode: 0 Status: OK