Package: faers Version: 1.3.0 Command: /home/biocbuild/bbs-3.21-bioc/R/bin/R CMD build --keep-empty-dirs --no-resave-data faers StartedAt: 2025-02-03 17:22:04 -0500 (Mon, 03 Feb 2025) EndedAt: 2025-02-03 17:22:38 -0500 (Mon, 03 Feb 2025) EllapsedTime: 34.0 seconds RetCode: 0 Status: OK PackageFile: faers_1.3.0.tar.gz PackageFileSize: 2.889 MiB