Package: faers Version: 1.3.0 Command: /home/biocbuild/bbs-3.21-bioc/R/bin/R CMD check --install=check:faers.install-out.txt --library=/home/biocbuild/bbs-3.21-bioc/R/site-library --timings faers_1.3.0.tar.gz StartedAt: 2025-02-03 22:24:28 -0500 (Mon, 03 Feb 2025) EndedAt: 2025-02-03 22:25:41 -0500 (Mon, 03 Feb 2025) EllapsedTime: 73.1 seconds RetCode: 0 Status: OK CheckDir: faers.Rcheck Warnings: 0