Package: faers Version: 1.3.0 Command: /home/biocbuild/bbs-3.21-bioc/R/bin/R CMD INSTALL faers StartedAt: 2025-02-09 15:08:36 -0500 (Sun, 09 Feb 2025) EndedAt: 2025-02-09 15:08:59 -0500 (Sun, 09 Feb 2025) EllapsedTime: 22.2 seconds RetCode: 0 Status: OK