Package: faers Version: 1.3.0 Command: rm -rf faers.buildbin-libdir && mkdir faers.buildbin-libdir && E:\biocbuild\bbs-3.21-bioc\R\bin\R.exe CMD INSTALL --build --library=faers.buildbin-libdir faers_1.3.0.tar.gz StartedAt: 2025-02-10 07:44:19 -0500 (Mon, 10 Feb 2025) EndedAt: 2025-02-10 07:45:22 -0500 (Mon, 10 Feb 2025) EllapsedTime: 63.2 seconds RetCode: 0 Status: OK PackageFile: faers_1.3.0.zip PackageFileSize: 3.217 MiB