Package: faers Version: 1.3.0 Command: chmod a+r faers -R && E:\biocbuild\bbs-3.21-bioc\R\bin\R.exe CMD build --keep-empty-dirs --no-resave-data faers StartedAt: 2025-02-03 18:52:06 -0500 (Mon, 03 Feb 2025) EndedAt: 2025-02-03 18:53:11 -0500 (Mon, 03 Feb 2025) EllapsedTime: 65.5 seconds RetCode: 0 Status: OK PackageFile: faers_1.3.0.tar.gz PackageFileSize: 2.889 MiB