Package: faers Version: 1.3.0 Command: E:\biocbuild\bbs-3.21-bioc\R\bin\R.exe CMD check --no-multiarch --install=check:faers.install-out.txt --library=E:\biocbuild\bbs-3.21-bioc\R\library --no-vignettes --timings faers_1.3.0.tar.gz StartedAt: 2025-02-04 01:29:06 -0500 (Tue, 04 Feb 2025) EndedAt: 2025-02-04 01:31:52 -0500 (Tue, 04 Feb 2025) EllapsedTime: 165.9 seconds RetCode: 0 Status: OK CheckDir: faers.Rcheck Warnings: 0