Package: faers Version: 1.3.0 Command: E:\biocbuild\bbs-3.21-bioc\R\bin\R.exe CMD INSTALL faers StartedAt: 2025-02-03 16:16:30 -0500 (Mon, 03 Feb 2025) EndedAt: 2025-02-03 16:17:17 -0500 (Mon, 03 Feb 2025) EllapsedTime: 46.4 seconds RetCode: 0 Status: OK