Package: fastLiquidAssociation Version: 1.43.0 Command: rm -rf fastLiquidAssociation.buildbin-libdir && mkdir fastLiquidAssociation.buildbin-libdir && /Users/biocbuild/BBS/utils/build-universal.sh fastLiquidAssociation_1.43.0.tar.gz /Library/Frameworks/R.framework/Resources/bin/R fastLiquidAssociation.buildbin-libdir StartedAt: 2025-02-03 22:50:06 -0500 (Mon, 03 Feb 2025) EndedAt: 2025-02-03 22:50:16 -0500 (Mon, 03 Feb 2025) EllapsedTime: 9.3 seconds RetCode: 0 Status: OK PackageFile: fastLiquidAssociation_1.43.0.tgz PackageFileSize: 661.1 KiB